BEGIN:VCALENDAR
VERSION:2.0
PRODID:-//The Episcopal Diocese of Florida - ECPv6.15.20//NONSGML v1.0//EN
CALSCALE:GREGORIAN
METHOD:PUBLISH
X-WR-CALNAME:The Episcopal Diocese of Florida
X-ORIGINAL-URL:https://www.diocesefl.org
X-WR-CALDESC:Events for The Episcopal Diocese of Florida
REFRESH-INTERVAL;VALUE=DURATION:PT1H
X-Robots-Tag:noindex
X-PUBLISHED-TTL:PT1H
BEGIN:VTIMEZONE
TZID:America/New_York
BEGIN:DAYLIGHT
TZOFFSETFROM:-0500
TZOFFSETTO:-0400
TZNAME:EDT
DTSTART:20250309T070000
END:DAYLIGHT
BEGIN:STANDARD
TZOFFSETFROM:-0400
TZOFFSETTO:-0500
TZNAME:EST
DTSTART:20251102T060000
END:STANDARD
BEGIN:DAYLIGHT
TZOFFSETFROM:-0500
TZOFFSETTO:-0400
TZNAME:EDT
DTSTART:20260308T070000
END:DAYLIGHT
BEGIN:STANDARD
TZOFFSETFROM:-0400
TZOFFSETTO:-0500
TZNAME:EST
DTSTART:20261101T060000
END:STANDARD
BEGIN:DAYLIGHT
TZOFFSETFROM:-0500
TZOFFSETTO:-0400
TZNAME:EDT
DTSTART:20270314T070000
END:DAYLIGHT
BEGIN:STANDARD
TZOFFSETFROM:-0400
TZOFFSETTO:-0500
TZNAME:EST
DTSTART:20271107T060000
END:STANDARD
END:VTIMEZONE
BEGIN:VEVENT
DTSTART;TZID=America/New_York:20260417T183000
DTEND;TZID=America/New_York:20260417T213000
DTSTAMP:20260420T102449
CREATED:20260226T163658Z
LAST-MODIFIED:20260226T214153Z
UID:4830-1776450600-1776461400@www.diocesefl.org
SUMMARY:Gala Cubana
DESCRIPTION:
URL:https://www.diocesefl.org/diocesan-calendar-of-events/gala-cuba/
LOCATION:Holy Trinity Episcopal Church\, 100 NE 1st Street\, Gainesville\, Florida\, 32601\, United States
END:VEVENT
BEGIN:VEVENT
DTSTART;TZID=America/New_York:20260414T100000
DTEND;TZID=America/New_York:20260414T100000
DTSTAMP:20260420T102449
CREATED:20260211T225418Z
LAST-MODIFIED:20260211T225507Z
UID:4793-1776160800-1776160800@www.diocesefl.org
SUMMARY:ART@noon Salon: Spires in the Sun Church Road Trip 2.0
DESCRIPTION:Tickets are $35\, which includes author-led visits to two churches featured in the book—Trinity Episcopal Church\, Melrose & St. Mark’s Episcopal Church\, Starke—as well as a complimentary copy of the award-winning book\, Spires in the Sun: The Carpenter Gothic Episcopal Churches of Florida. \nDetails: \n\nApril 14 at 10:00 a.m.\nTrinity Church\, Melrose\n\nFor more information and to purchase tickets\, visit www.jaxcathedralbooks.org.
URL:https://www.diocesefl.org/diocesan-calendar-of-events/artnoon-salon-spires-in-the-sun-church-road-trip-2-0/
LOCATION:FL
END:VEVENT
BEGIN:VEVENT
DTSTART;TZID=America/New_York:20260322T160000
DTEND;TZID=America/New_York:20260322T160000
DTSTAMP:20260420T102449
CREATED:20260312T130904Z
LAST-MODIFIED:20260312T130904Z
UID:4845-1774195200-1774195200@www.diocesefl.org
SUMMARY:Olivier Messiaen’s ‘Quartet for the End of Time’ at Holy Trinity Episcopal Church
DESCRIPTION:Join Holy Trinity\, Gainesville on Sunday\, March 22 at 4PM\, for a moving performance in the Holy Trinity Music Fund Concert Series. They are honored to present Olivier Messiaen’s Quartet for the End of Time — a profound and transcendent work composed during the composer’s imprisonment in 1941\, and widely regarded as one of the most powerful chamber pieces of the 20th century. \nThis concert will be offered free of charge\, and all are warmly invited. \nA reception will follow the performance in the Parish Hall. \nContact: John Pritchard\, musicdept@holytrinitygnv.org
URL:https://www.diocesefl.org/diocesan-calendar-of-events/olivier-messiaens-quartet-for-the-end-of-time-at-holy-trinity-episcopal-church/
LOCATION:Holy Trinity Episcopal Church\, 100 NE 1st Street\, Gainesville\, Florida\, 32601\, United States
END:VEVENT
BEGIN:VEVENT
DTSTART;TZID=America/New_York:20260321T100000
DTEND;TZID=America/New_York:20260321T140000
DTSTAMP:20260420T102449
CREATED:20251112T203145Z
LAST-MODIFIED:20251118T143255Z
UID:4620-1774087200-1774101600@www.diocesefl.org
SUMMARY:Mindful Aging Strategies: Paths to Second Half Thriving
DESCRIPTION:This quarterly seminar series at St. John’s Cathedral Center for Wellbeing focuses on four specific areas from Susanna Barton’s book\, Grand Plans 2.0: How to Mitigate GeriDrama in 20 Easy Steps. \nLocation: Busey Conference Room\, St. John’s Cathedral
URL:https://www.diocesefl.org/diocesan-calendar-of-events/mindful-aging-strategies-paths-to-second-half-thriving-2/2026-03-21/
LOCATION:St. John’s Cathedral\, Jacksonville
END:VEVENT
BEGIN:VEVENT
DTSTART;TZID=America/New_York:20260124T100000
DTEND;TZID=America/New_York:20260124T140000
DTSTAMP:20260420T102449
CREATED:20251112T203145Z
LAST-MODIFIED:20251118T143255Z
UID:4615-1769248800-1769263200@www.diocesefl.org
SUMMARY:Mindful Aging Strategies: Paths to Second Half Thriving
DESCRIPTION:This quarterly seminar series at St. John’s Cathedral Center for Wellbeing focuses on four specific areas from Susanna Barton’s book\, Grand Plans 2.0: How to Mitigate GeriDrama in 20 Easy Steps. \nLocation: Busey Conference Room\, St. John’s Cathedral
URL:https://www.diocesefl.org/diocesan-calendar-of-events/mindful-aging-strategies-paths-to-second-half-thriving-2/2026-01-24/
LOCATION:St. John’s Cathedral\, Jacksonville
END:VEVENT
END:VCALENDAR